BEGIN:VCALENDAR
VERSION:2.0
PRODID:-//Volt EDU - ECPv6.15.20//NONSGML v1.0//EN
CALSCALE:GREGORIAN
METHOD:PUBLISH
X-WR-CALNAME:Volt EDU
X-ORIGINAL-URL:https://voltedu.com
X-WR-CALDESC:Events for Volt EDU
REFRESH-INTERVAL;VALUE=DURATION:PT1H
X-Robots-Tag:noindex
X-PUBLISHED-TTL:PT1H
BEGIN:VTIMEZONE
TZID:America/New_York
BEGIN:DAYLIGHT
TZOFFSETFROM:-0500
TZOFFSETTO:-0400
TZNAME:EDT
DTSTART:20250309T070000
END:DAYLIGHT
BEGIN:STANDARD
TZOFFSETFROM:-0400
TZOFFSETTO:-0500
TZNAME:EST
DTSTART:20251102T060000
END:STANDARD
BEGIN:DAYLIGHT
TZOFFSETFROM:-0500
TZOFFSETTO:-0400
TZNAME:EDT
DTSTART:20260308T070000
END:DAYLIGHT
BEGIN:STANDARD
TZOFFSETFROM:-0400
TZOFFSETTO:-0500
TZNAME:EST
DTSTART:20261101T060000
END:STANDARD
BEGIN:DAYLIGHT
TZOFFSETFROM:-0500
TZOFFSETTO:-0400
TZNAME:EDT
DTSTART:20270314T070000
END:DAYLIGHT
BEGIN:STANDARD
TZOFFSETFROM:-0400
TZOFFSETTO:-0500
TZNAME:EST
DTSTART:20271107T060000
END:STANDARD
END:VTIMEZONE
BEGIN:VEVENT
DTSTART;TZID=America/New_York:20260718T000000
DTEND;TZID=America/New_York:20260721T235959
DTSTAMP:20260423T220630
CREATED:20260424T013745Z
LAST-MODIFIED:20260424T014742Z
UID:28951-1784332800-1784678399@voltedu.com
SUMMARY:NACUBO 2026 Annual Meeting
DESCRIPTION:Colleges and universities are at a crossroads and facing an enormous amount of uncertainty. Keeping their missions front of mind—both on campus and to the public—will be pivotal to weathering the storm and reinforcing their value to their students. The mission at NACUBO is to support these higher education institutions in their work.
URL:https://voltedu.com/event/nacubo-2026-annual-meeting/
LOCATION:Anaheim Convention Center\, 200 S. Anaheim Blvd\, Anaheim\, California\, 92805\, United States
CATEGORIES:Conference
ATTACH;FMTTYPE=image/jpeg:https://voltedu.com/wp-content/uploads/2026/04/NACUBO.jpg
END:VEVENT
END:VCALENDAR